

BEGIN:VCALENDAR
VERSION:2.0
PRODID:-//hacksw/handcal//NONSGML v1.0//EN
CALSCALE:GREGORIAN
BEGIN:VEVENT
DTEND:20190307T090000
UID:5c7697e8850da
DTSTAMP:20190228T010008
LOCATION:Palladium at Crown 8 Whiteman Street Southbank 3006 VIC
DESCRIPTION:
URL;VALUE=URI:http://rotaryprahran.org.au/event/37513
SUMMARY:Women in Rotary International Women's Day Breakfast
DTSTART:20190307T063000
END:VEVENT
END:VCALENDAR

