

BEGIN:VCALENDAR
VERSION:2.0
PRODID:-//hacksw/handcal//NONSGML v1.0//EN
CALSCALE:GREGORIAN
BEGIN:VEVENT
DTEND:20190517T230000
UID:5c7697fb2e0f3
DTSTAMP:20190228T010027
LOCATION:South Melbourne Town Hall Fishley St South Melbourne 3205 VIC
DESCRIPTION:
URL;VALUE=URI:http://rotaryprahran.org.au/event/37484
SUMMARY:Rotary celebrates IDAHOBIT 2019
DTSTART:20190517T190000
END:VEVENT
END:VCALENDAR

