

BEGIN:VCALENDAR
VERSION:2.0
PRODID:-//hacksw/handcal//NONSGML v1.0//EN
CALSCALE:GREGORIAN
BEGIN:VEVENT
DTEND:20190408T200000
UID:5c7698172cf0f
DTSTAMP:20190228T010055
LOCATION:Mt Erica Hotel Cnr High Street & Williams Road Windsor 3181 VIC
DESCRIPTION:
URL;VALUE=URI:http://rotaryprahran.org.au/event/37483
SUMMARY:Dinner meeting
DTSTART:20190408T184500
END:VEVENT
END:VCALENDAR

