

BEGIN:VCALENDAR
VERSION:2.0
PRODID:-//hacksw/handcal//NONSGML v1.0//EN
CALSCALE:GREGORIAN
BEGIN:VEVENT
DTEND:20190401T200000
UID:5c7698142d6f8
DTSTAMP:20190228T010052
LOCATION:Mt Erica Hotel Cnr High Street & Williams Road Windsor 3181 VIC
DESCRIPTION:
URL;VALUE=URI:http://rotaryprahran.org.au/event/37482
SUMMARY:Dinner meeting
DTSTART:20190401T184500
END:VEVENT
END:VCALENDAR

