

BEGIN:VCALENDAR
VERSION:2.0
PRODID:-//hacksw/handcal//NONSGML v1.0//EN
CALSCALE:GREGORIAN
BEGIN:VEVENT
DTEND:20190325T200000
UID:5c769811317d6
DTSTAMP:20190228T010049
LOCATION:Mt Erica Hotel Cnr High Street & Williams Road Windsor 3181 VIC
DESCRIPTION:
URL;VALUE=URI:http://rotaryprahran.org.au/event/37481
SUMMARY:Dinner meeting
DTSTART:20190325T184500
END:VEVENT
END:VCALENDAR

