

BEGIN:VCALENDAR
VERSION:2.0
PRODID:-//hacksw/handcal//NONSGML v1.0//EN
CALSCALE:GREGORIAN
BEGIN:VEVENT
DTEND:20190318T200000
UID:5c76980dbd720
DTSTAMP:20190228T010045
LOCATION:Mt Erica Hotel Cnr High Street & Williams Road Windsor 3181 VIC
DESCRIPTION:
URL;VALUE=URI:http://rotaryprahran.org.au/event/37480
SUMMARY:Dinner meeting
DTSTART:20190318T184500
END:VEVENT
END:VCALENDAR

