

BEGIN:VCALENDAR
VERSION:2.0
PRODID:-//hacksw/handcal//NONSGML v1.0//EN
CALSCALE:GREGORIAN
BEGIN:VEVENT
DTEND:20190306T200000
UID:5c7697d380e82
DTSTAMP:20190228T005947
LOCATION:Matthew Flinders Hotel Warrigal Road Chadstone  VIC
DESCRIPTION:The LIfe&nbsp\;You Can Save organization was founded by Peter Singer\, widely recognized as one of the world's most influential contemporary philosophers. We advance the ideas in his 2009 book\,&nbsp\;The Life You Can Save: Acting Now to End World Poverty\, which Bill and Melinda Gates described as "A persuasive and inspiring work that will change the way you think about philanthropy." In it\, Peter argues that if we can provide immense benefit to someone at minimal cost to ourselves\, we should do so (illustrated by his famous&nbsp\;Girl in the Pond&nbsp\;thought experiment). And since there are charities that dramatically improve\, or even save\, the lives of people living in extreme poverty on less than $1.90 USD per day for relatively little cost to ourselves\, living an ethical life includes supporting such highly effective organizations.
URL;VALUE=URI:http://rotaryprahran.org.au/event/37478
SUMMARY:Combined Stonnington Cluster Dinner meeting
DTSTART:20190306T180000
END:VEVENT
END:VCALENDAR

